BEGIN:VCALENDAR
VERSION:2.0
PRODID:-//wp-events-plugin.com//7.2.3.1//EN
BEGIN:VEVENT
UID:292@bridge21parkcity.com
DTSTART:20260319T173000Z
DTEND:20260319T190000Z
DTSTAMP:20260224T204245Z
URL:https://bridge21parkcity.com/events/family-dinner-4/
SUMMARY:Family Dinner
DESCRIPTION:Family Dinner Night brings residents and their friends together
  for a shared meal at the house. Volunteers cook and dine with residents\,
  creating a warm\, welcoming space for connection and community. Intereste
 d in volunteering? Sign up here: Volunteer sign up
END:VEVENT
END:VCALENDAR