BEGIN:VCALENDAR
VERSION:2.0
PRODID:-//wp-events-plugin.com//7.2.3.1//EN
BEGIN:VEVENT
UID:302@bridge21parkcity.com
DTSTART:20260330T181500Z
DTEND:20260330T200000Z
DTSTAMP:20260224T210843Z
URL:https://bridge21parkcity.com/events/young-life-capernaum-18/
SUMMARY:Young Life Capernaum
DESCRIPTION:Capernaum gathering at Creekside Church from 6:15-8pm. Dinner p
 rovided!
END:VEVENT
END:VCALENDAR